BEGIN:VCALENDAR
PRODID:-//IONAS//RIS//DE
VERSION:2.0
CALSCALE:GREGORIAN
BEGIN:VEVENT
DTSTAMP:20260421T011130Z
DTSTART:20261211T150000
DTEND:20261211T160000
SUMMARY:Ausschuss für Finanzen\, Wirtschaft\, Tourismus\, Mobilität und B
 auen (5. Sitzung)
LOCATION:Kreishaus in Korbach\, Sitzungssaal I (1. OG)\, Südring 2\, 3449
 7 Korbach
DESCRIPTION:
UID:0gmIA-GHtidGjXx1
END:VEVENT
END:VCALENDAR
