BEGIN:VCALENDAR
PRODID:-//IONAS//RIS//DE
VERSION:2.0
CALSCALE:GREGORIAN
BEGIN:VEVENT
DTSTAMP:20260421T011243Z
DTSTART:20240226T150000
DTEND:20240226T154500
SUMMARY:Ausschuss für Finanzen\, Wirtschaft\, Tourismus\, Mobilität und B
 auen (19. Sitzung)
LOCATION:Kreishaus in Korbach\, Sitzungssaal I (1. OG)\, Südring 2\, 3449
 7 Korbach
DESCRIPTION:Tagesordnungspunkte\nI. öffentliche Sitzung\n1. Haushaltssatz
 ung und Haushaltsplan für das Haushaltsjahr 2024\, Investitionsprogramm 
 und Ergebnis- und Finanzplanung für den Zeitraum 2023-2027 sowie Haushal
 tssicherungskonzept nach § 92a HGO für den Zeitraum 2024-2027 (Beratung 
 und Beschlussfassung)\n2. Neufassung der „Richtlinie zur Förderung der R
 adverkehrsinfrastruktur im Landkreis Waldeck-Frankenberg“\n3. Flüchtling
 sunterbringung\;\n2. Änderung der Unterbringungsgebührensatzung des Land
 kreises (UGebS)\n4. Personalstrategie - Aufbau Personalcontrolling für d
 en Landkreis Waldeck-Frankenberg\n5. Bericht über den Haushaltsvollzug f
 ür das IV. Quartal 2023 auf der Grundlage der Finanzbuchhaltung nach § 2
 8 GemHVO\n6. Verschiedenes
UID:1CAlH_vbtDJnW9tl
END:VEVENT
END:VCALENDAR
