BEGIN:VCALENDAR
PRODID:-//IONAS//RIS//DE
VERSION:2.0
CALSCALE:GREGORIAN
BEGIN:VEVENT
DTSTAMP:20260421T010516Z
DTSTART:20220920T150000
DTEND:20220920T155000
SUMMARY:Ausschuss für Gesundheit\, Familie\, Jugend und Soziales (6. Sitz
 ung)
LOCATION:Kreishaus in Korbach\, Sitzungssaal I (1. OG)\, Südring 2\, 3449
 7 Korbach
DESCRIPTION:Tagesordnungspunkte\n1. Jahresberichte der Patientenfürsprech
 erinnen und Patientenfürsprecher der Krankenhäuser im Landkreis Waldeck-
 Frankenberg für das Jahr 2021\n2. Strategie zur Einrichtung der Kommunal
 en Gesundheitskonferenz in Waldeck- Frankenberg\nStrukturen schaffen- Ge
 sundheit verbessern\n3. Verschiedenes
UID:3DBX9TiMvJlY1f2n
END:VEVENT
END:VCALENDAR
