BEGIN:VCALENDAR
PRODID:-//IONAS//RIS//DE
VERSION:2.0
CALSCALE:GREGORIAN
BEGIN:VEVENT
DTSTAMP:20260420T212421Z
DTSTART:20250702T130000
DTEND:20250702T171800
SUMMARY:Kreistag (30. Sitzung)
LOCATION:Kreishaus in Korbach\, Sitzungssaal I (1. OG)\, Südring 2\, 3449
 7 Korbach
DESCRIPTION:Tagesordnungspunkte\nI. öffentliche Sitzung\n1. Fragestunde n
 ach § 17 der Geschäftsordnung\n2. Aktuelle Stunde\n3. Verwendung der Ein
 nahmen des Landkreises aus Anteilen der aktuellen Gewerbesteuernachzahlu
 ngen an die Stadt Battenberg für die Schuldentilgung und Senkung der Kre
 isumlage\n•	Antrag der AfD-Fraktion\n4. Nutzung der kreiseigenen Sportha
 llen in den Ferien\n•   Antrag der Fraktionen CDU/SPD\n5. Vereinfachung 
 der Genehmigungsverfahren im Denkmalschutz\n•  Antrag der FDP-Fraktion\n
 6. Einführung eines kreisweiten Wettbewerbs\nzur Senkung des Energieverb
 rauchs in Schulen des Kreises\n•   Antrag der Fraktion BÜNDNIS 90/DIE GR
 ÜNEN\n7. NGO-Förderung\n•   Große Anfrage der AfD-Fraktion\n8. Fachstell
 e für Demokratieförderung (DEXT)\n•   Große Anfrage der AfD-Fraktion\n9.
  Gesamtkosten Containerdorf\n•   Große Anfrage der AfD-Fraktion\n10. Prü
 fung der Jahresabschlüsse der kreisangehörigen Städte und Gemeinden\n•Gr
 oße Anfrage der Fraktionen von CDU und SPD\n11. Bezahlkarte für Flüchtli
 nge\n•   Große Anfrage der AfD-Fraktion\n12. Sicherstellung des Kindeswo
 hls in Kindertagesstätten\n•   Große Anfrage der AfD-Fraktion\n13. Kinde
 rtagespflegepersonen\n•   Große Anfrage der Fraktion BÜNDNIS 90/DIE GRÜN
 EN\n14. Neufassung der Schulbudgetrichtlinie ab 01.01.2026\n15. Neubau e
 ines Geh-/Radweges an der K22 zwischen Nieder-Werbe und Scheid: Rückgabe
  des Zuwendungsbescheides für eine Erweiterte Machbarkeitsstudie mit Wir
 tschaftlichkeitsbetrachtung für das Vorhaben\n16. Lückenschluss des Radw
 eges zwischen Buhlen und Giflitz bzw. Wega auf der alten Bahntrasse\n17.
  Beteiligungsbericht 2023 des Landkreises Waldeck-Frankenberg\n18. Versc
 hiedenes
UID:CH1k5abXCA12gwGm
END:VEVENT
END:VCALENDAR
