BEGIN:VCALENDAR
PRODID:-//IONAS//RIS//DE
VERSION:2.0
CALSCALE:GREGORIAN
BEGIN:VEVENT
DTSTAMP:20260421T011931Z
DTSTART:20231214T150000
DTEND:20231214T154500
SUMMARY:Ausschuss für Finanzen\, Wirtschaft\, Tourismus\, Mobilität und B
 auen (18. Sitzung)
LOCATION:Kreishaus in Korbach\, Sitzungssaal I (1. OG)\, Südring 2\, 3449
 7 Korbach
DESCRIPTION:Tagesordnungspunkte\nI. öffentliche Sitzung\n1. Investitionsp
 auschale für finanzschwache Kommunen – „Kreisausgleichsstock 2.0“\n2. Ne
 ufassung der Abfallentsorgungssatzung des Landkreises Waldeck-Frankenber
 g vom 18.12.2023\n3. 4. Änderung der Gebührensatzung zur Abfallentsorgun
 gssatzung des Landkreises Waldeck-Frankenberg vom 04.11.2013\n4. Erwerb 
 zweier Geschäftsanteile der Touristik Service Waldeck-Ederbergland GmbH 
 durch den Landkreises Waldeck-Frankenberg vom Touristikverband Waldecker
  Land e.V.\n5. Bericht über den Haushaltsvollzug für das III. Quartal 20
 23 auf der Grundlage der Finanzbuchhaltung nach § 28 GemHVO\n6. Unterric
 htung über die Genehmigung von überplanmäßigen Aufwendungen in den Teile
 rgebnishaushalten 053 Soziale Einrichtungen und 035 Förderschulen und üb
 erplanmäßigen Auszahlungen im Teilfinanzhaushalt 042 Nichtwissenschaftli
 che Museen\, Sammlungen\n7. Verschiedenes
UID:Dyt79Dv8mwEHtg_z
END:VEVENT
END:VCALENDAR
