BEGIN:VCALENDAR
PRODID:-//IONAS//RIS//DE
VERSION:2.0
CALSCALE:GREGORIAN
BEGIN:VEVENT
DTSTAMP:20260421T010711Z
DTSTART:20240221T160000
DTEND:20240221T171000
SUMMARY:Ausschuss für Landwirtschaft\, Forsten\, Natur\, Klima\, Energie 
 und Regionalentwicklung (15. Sitzung)
LOCATION:Kreishaus in Korbach\, Sitzungssaal I (1. OG)\, Südring 2\, 3449
 7 Korbach
DESCRIPTION:Tagesordnungspunkte\n1. Haushaltssatzung und Haushaltsplan fü
 r das Haushaltsjahr 2024\, Investitionsprogramm und Ergebnis- und Finanz
 planung für den Zeitraum 2023-2027 sowie Haushaltssicherungskonzept nach
  § 92a HGO für den Zeitraum 2024-2027 (Beratung und Beschlussfassung)\n2
 . Implementierung eines neuen Schlachtstättenangebots im Landkreis Walde
 ck-Frankenberg  -Abschlussbericht\n3. Energiebilanz 2022\n4. Verschieden
 es
UID:HP9xZ-nUlCB3i_J2
END:VEVENT
END:VCALENDAR
