BEGIN:VCALENDAR
PRODID:-//IONAS//RIS//DE
VERSION:2.0
CALSCALE:GREGORIAN
BEGIN:VEVENT
DTSTAMP:20260421T010849Z
DTSTART:20250217T140000
DTEND:20250217T142500
SUMMARY:Ausschuss für Gesundheit\, Familie\, Jugend und Soziales (14. Sit
 zung)
LOCATION:Kreishaus in Korbach\, Sitzungssaal I (1. OG)\, Südring 2\, 3449
 7 Korbach
DESCRIPTION:Tagesordnungspunkte\n1. Haushaltsplanung 2025 – Fortschreibun
 g des Haushaltssicherungskonzepts nach § 92a HGO für den Zeitraum 2024-2
 028 (Beratung und Beschlussfassung)\n2. Haushaltssatzung und Haushaltspl
 an für das Haushaltsjahr 2025\, Investitionsprogramm und Ergebnis- und F
 inanzplanung für den Zeitraum 2024-2028 (Beratung und Beschlussfassung)\
 n3. Kennzahlenvergleich SBG VIII – Berichtsjahr 2023\n4. Verschiedenes
UID:LLvjYv03R7WhXqIT
END:VEVENT
END:VCALENDAR
