BEGIN:VCALENDAR
PRODID:-//IONAS//RIS//DE
VERSION:2.0
CALSCALE:GREGORIAN
BEGIN:VEVENT
DTSTAMP:20260421T010603Z
DTSTART:20220921T150500
DTEND:20220921T152000
SUMMARY:Ausschuss für Landwirtschaft\, Forsten\, Natur\, Klima\, Energie 
 und Regionalentwicklung (7. Sitzung)
LOCATION:Kreishaus in Korbach\, Sitzungssaal I (1. OG)\, Südring 2\, 3449
 7 Korbach
DESCRIPTION:Tagesordnungspunkte\n1. Gewährung eines Zuschusses in Höhe vo
 n 80.000 € an den Verein „Klimaneutrales Waldeck-Frankenberg“\n•	Gemeins
 amer Antrag der Fraktionen von CDU und SPD\n2. Verschiedenes
UID:MAiMaYFtwIaRuQJw
END:VEVENT
END:VCALENDAR
