BEGIN:VCALENDAR
PRODID:-//IONAS//RIS//DE
VERSION:2.0
CALSCALE:GREGORIAN
BEGIN:VEVENT
DTSTAMP:20260421T010910Z
DTSTART:20230509T140600
DTEND:20230509T144200
SUMMARY:Ausschuss für Gesundheit\, Familie\, Jugend und Soziales (9. Sitz
 ung)
LOCATION:Kreishaus in Korbach\, Sitzungssaal I (1. OG)\, Südring 2\, 3449
 7 Korbach
DESCRIPTION:Tagesordnungspunkte\n1. Bericht über die Arbeit des Frauenbür
 os\n•  Antrag der Abg. Moering\n2. Verschiedenes
UID:NAy7LVnQ2CAfbkdX
END:VEVENT
END:VCALENDAR
