BEGIN:VCALENDAR
PRODID:-//IONAS//RIS//DE
VERSION:2.0
CALSCALE:GREGORIAN
BEGIN:VEVENT
DTSTAMP:20260421T010301Z
DTSTART:20251002T133000
DTEND:20251002T143000
SUMMARY:Ausschuss für Schule\, Bildung\, Sport\, Digitalisierung und Schu
 lbauten (17. Sitzung)
LOCATION:Kreishaus in Korbach\, Sitzungssaal I (1. OG)\, Südring 2\, 3449
 7 Korbach
DESCRIPTION:Tagesordnungspunkte\n1. Kugelsburgschule Volkmarsen\n2. Versc
 hiedenes
UID:PNtJs9UFRtEHKA1U
END:VEVENT
END:VCALENDAR
