BEGIN:VCALENDAR
PRODID:-//IONAS//RIS//DE
VERSION:2.0
CALSCALE:GREGORIAN
BEGIN:VEVENT
DTSTAMP:20260421T010342Z
DTSTART:20240703T150000
DTEND:20240703T161000
SUMMARY:Ausschuss für Landwirtschaft\, Forsten\, Natur\, Klima\, Energie 
 und Regionalentwicklung (17. Sitzung)
LOCATION:Kreishaus in Korbach\, Sitzungssaal I (1. OG)\, Südring 2\, 3449
 7 Korbach
DESCRIPTION:Tagesordnungspunkte\n1. Klimaschutzkonzept des Landkreises Wa
 ldeck-Frankenberg\n2. Verschiedenes
UID:USL5HvIwsGlaTHeP
END:VEVENT
END:VCALENDAR
