BEGIN:VCALENDAR
PRODID:-//IONAS//RIS//DE
VERSION:2.0
CALSCALE:GREGORIAN
BEGIN:VEVENT
DTSTAMP:20260420T212437Z
DTSTART:20230515T140000
DTEND:20230515T164000
SUMMARY:Kreistag (15. Sitzung)
LOCATION:Wandelhalle\, 34537 Bad Wildungen\, Wandelhalle\, An der Georg-V
 iktor-Quelle 3\, 34537 Bad Wildungen
DESCRIPTION:Tagesordnungspunkte\nI. öffentliche Sitzung\n1. Fragestunde n
 ach § 17 der Geschäftsordnung\n2. Aktuelle Stunde\n3. Bericht über die A
 rbeit des Frauenbüros\n•  Antrag der Abg. Moering\n4. „Gemeinsame klimas
 chützende Wärmeplanung“\n•       Gemeinsamer Antrag der Fraktionen von B
 ÜNDNIS 90/DIE GRÜNEN\, FW und FDP\n5. Erarbeitung einer Konzeption für d
 ie Schulsituation in der Gemeinde Twistetal für die Standorte Berndorf u
 nd Twiste\n•   Antrag der FW-Fraktion\n6. Grundschule Twistetal\nhier : 
 Vertrag zwischen Gemeinde und Landkreis\n7. Umgang mit der Zuwanderung i
 n den Landkreis Waldeck-Frankenberg\nZiffern 3 und 4 des Antrags der AfD
 -Fraktion\n8. Gendern konsequent unterbinden - Kommunikation in regelkon
 former Sprache\n•Antrag der AfD-Fraktion\n9. Verbesserung der öffentlich
 en Ladeinfrastruktur\n•Antrag der Fraktionen von BÜNDNIS 90/DIE GRÜNEN u
 nd FW\n10. Resolution zur Änderung des § 153 Hessisches Schulgesetz (HSc
 hG) betreffend die Lernmittelfreiheit in Bezug auf mobile digitale Endge
 räte\n•  Resolutionsantrag der FDP-Fraktion\n11. Wahl von 2 Mitgliedern 
 (und Stellvertretungen) des Personalrats in die Domanialkommission\n12. 
 Unterrichtung über die Genehmigung von überplanmäßigen Aufwendungen im T
 eilergebnishaushalt 082 „Sportstätten und Bäder“\, im Haushaltsjahr 2023
 \n13. Verschiedenes
UID:VsWQBjExrJ3iLj3J
END:VEVENT
END:VCALENDAR
