BEGIN:VCALENDAR
PRODID:-//IONAS//RIS//DE
VERSION:2.0
CALSCALE:GREGORIAN
BEGIN:VEVENT
DTSTAMP:20260421T010200Z
DTSTART:20231213T150000
DTEND:20231213T163000
SUMMARY:Ausschuss für Landwirtschaft\, Forsten\, Natur\, Klima\, Energie 
 und Regionalentwicklung (14. Sitzung)
LOCATION:Kreishaus in Korbach\, Sitzungssaal I (1. OG)\, Südring 2\, 3449
 7 Korbach
DESCRIPTION:Tagesordnungspunkte\n1. Klimaschutz- und Klimaanpassungsmanag
 ement des Landkreises\nhier: Gründung und Mitgliedschaft des Vereins „Re
 gionale Energieagentur Waldeck-Frankenberg e.V.“ und Erstellung eines Kl
 imaanpassungskonzeptes für den Landkreis Waldeck-Frankenberg\n2. Bericht
  Erosionsschutz und Gülle (FD Landwirtschaft)\n3. Verschiedenes
UID:WovFsFDQLppqPg4m
END:VEVENT
END:VCALENDAR
