BEGIN:VCALENDAR
PRODID:-//IONAS//RIS//DE
VERSION:2.0
CALSCALE:GREGORIAN
BEGIN:VEVENT
DTSTAMP:20260421T010153Z
DTSTART:20251210T150000
DTEND:20251210T161000
SUMMARY:Ausschuss für Landwirtschaft\, Forsten\, Natur\, Klima\, Energie 
 und Regionalentwicklung (22. Sitzung)
LOCATION:Kreishaus in Korbach\, Sitzungssaal I (1. OG)\, Südring 2\, 3449
 7 Korbach
DESCRIPTION:Tagesordnungspunkte\n1. Haushaltsplanung 2026 - Fortschreibun
 g des Haushaltssicherungskonzeptes nach § 92a HGO für\nden Zeitraum 2025
 -2029 (Beratung und Beschlussfassung)\n2. Haushaltssatzung und Haushalts
 plan für das Haushaltsjahr 2026\, Investitionsprogramm\nund Ergebnis- un
 d Finanzplanung für den Zeitraum 2025-2029 (Beratung und Beschlussfassun
 g)\n3. Jahresabschluss 2024 der Waldeckischen Domanialverwaltung\; Fests
 tellung und Ergebnisverwendung\n4. Verschiedenes
UID:ZGS7AQjEMgMvZ8er
END:VEVENT
END:VCALENDAR
