BEGIN:VCALENDAR
PRODID:-//IONAS//RIS//DE
VERSION:2.0
CALSCALE:GREGORIAN
BEGIN:VEVENT
DTSTAMP:20260420T212421Z
DTSTART:20261102T130000
DTEND:20261102T180000
SUMMARY:Kreistag (5. Sitzung)
LOCATION:Kreishaus in Korbach\, Sitzungssaal I (1. OG)\, Südring 2\, 3449
 7 Korbach
DESCRIPTION:
UID:cHAfnrqGj7Z6vzLL
END:VEVENT
END:VCALENDAR
