BEGIN:VCALENDAR
PRODID:-//IONAS//RIS//DE
VERSION:2.0
CALSCALE:GREGORIAN
BEGIN:VEVENT
DTSTAMP:20260420T175416Z
DTSTART:20210920T150000
DTEND:20210920T194300
SUMMARY:Kreistag (4. Sitzung)
LOCATION:Stadhalle\, Diemelstadt-Rhoden\, Stadthalle\, Walme 1-3\, 34474 
 Diemelstadt
DESCRIPTION:Tagesordnungspunkte\nI. öffentliche Sitzung\n1. Fragestunde n
 ach § 18 der Geschäftsordnung\n2. Aktuelle Stunde\n3. Wahl zur XVII. Ver
 bandsversammlung des Landeswohlfahrtsverbandes Hessen – Wahlzeit 2021 - 
 2026\n4. I. Nachtragshaushaltssatzung und I. Nachtragshaushaltsplan für 
 das Haushaltsjahr 2021 sowie Fortschreibung der Ergebnis- und Finanzplan
 ung für den Zeitraum 2020 – 2024 (Vorlage und Begründung)\n5. Klimaschut
 z\nAntrag der Fraktion BÜNDNIS 90/DIE GRÜNEN und Änderungsantrag der AfD
 -Fraktion\nGroße Anfrage der AfD-Fraktion\nBeschlussvorschlag des Kreisa
 usschusses betr. Erstellung eines Klimaschutzkonzeptes für den Landkreis
  Waldeck-Frankenberg sowie Beitritt zum Bündnis „Hessen aktiv: Die Klima
 -Kommunen“\n6. Klimacheck beim Verwaltungshandeln des Landkreises Waldec
 k-Frankenberg\n•Antrag der Fraktion BÜNDNIS 90/DIE GRÜNEN\n7. Einführung
  einer Pflegefinder-App nach dem Vorbild des Rhein-Kreis Neuss\n•Antrag 
 der AfD-Fraktion\n8. Neuorganisation der Wirtschaftsförderung in Waldeck
 -Frankenberg\n• Antrag der FDP-Fraktion\n9. Digitalpakt beschleunigen – 
 Schulen einbeziehen\n• Antrag der FDP-Fraktion\n10. Jahresberichte der P
 atientenfürsprecherinnen und Patientenfürsprecher der Krankenhäuser im L
 andkreis Waldeck-Frankenberg für das Jahr 2020\n11. Übernahme einer Bürg
 schaft durch die Waldeckische Domanialverwaltung betr. Mitgliedschaft de
 r Kommunalwald Waldeck-Frankenberg GmbH bei der KVK ZusatzVersorgungsKas
 se\n12. Neufassung der Richtlinie zur Förderung der Radverkehrsinfrastru
 ktur im Landkreis Waldeck-Frankenberg\n13. Bericht über den Haushaltsvol
 lzug 2021 für das II. Quartal auf der Grundlage der Finanzbuchhaltung na
 ch § 28 GemHVO\n14. Unterrichtung über die Genehmigung von überplanmäßig
 en Auszahlungen im Teilfinanzhaushalt 081 Förderung des Sports im Hausha
 ltsjahr 2021\n15. Verschiedenes
UID:gQudLOTRixyRtsEA
END:VEVENT
END:VCALENDAR
