BEGIN:VCALENDAR
PRODID:-//IONAS//RIS//DE
VERSION:2.0
CALSCALE:GREGORIAN
BEGIN:VEVENT
DTSTAMP:20260421T010602Z
DTSTART:20231101T150000
DTEND:20231101T155000
SUMMARY:Ausschuss für Landwirtschaft\, Forsten\, Natur\, Klima\, Energie 
 und Regionalentwicklung (13. Sitzung)
LOCATION:Kreishaus in Korbach\, Sitzungssaal I (1. OG)\, Südring 2\, 3449
 7 Korbach
DESCRIPTION:Tagesordnungspunkte\n1. Jahresabschluss 2022 der Waldeckische
 n Domanialverwaltung\n2. Wirtschaftsplan der Waldeckischen Domanialverwa
 ltung für das Wirtschaftsjahr 2024\n3. Erosionsschutz und Gülle (Bericht
  des Fachdienstes Landwirtschaft)\n4. Verschiedenes
UID:hekWA32RSTTojXXN
END:VEVENT
END:VCALENDAR
