BEGIN:VCALENDAR
PRODID:-//IONAS//RIS//DE
VERSION:2.0
CALSCALE:GREGORIAN
BEGIN:VEVENT
DTSTAMP:20260421T010911Z
DTSTART:20230314T150000
DTEND:20230314T151700
SUMMARY:Ausschuss für Gesundheit\, Familie\, Jugend und Soziales (8. Sitz
 ung)
LOCATION:Kreishaus in Korbach\, Sitzungssaal I (1. OG)\, Südring 2\, 3449
 7 Korbach
DESCRIPTION:Tagesordnungspunkte\n1. „Mobile Retter“ in Waldeck-Frankenber
 g\n• Antrag der FDP-Fraktion\n2. Verschiedenes
UID:hgLBNYLVGRz6DSVC
END:VEVENT
END:VCALENDAR
