BEGIN:VCALENDAR
PRODID:-//IONAS//RIS//DE
VERSION:2.0
CALSCALE:GREGORIAN
BEGIN:VEVENT
DTSTAMP:20260421T010849Z
DTSTART:20240220T150000
DTEND:20240220T155100
SUMMARY:Ausschuss für Gesundheit\, Familie\, Jugend und Soziales (11. Sit
 zung)
LOCATION:Kreishaus in Korbach\, Sitzungssaal I (1. OG)\, Südring 2\, 3449
 7 Korbach
DESCRIPTION:Tagesordnungspunkte\n1. Haushaltssatzung und Haushaltsplan fü
 r das Haushaltsjahr 2024\, Investitionsprogramm und Ergebnis- und Finanz
 planung für den Zeitraum 2023-2027 sowie Haushaltssicherungskonzept nach
  § 92a HGO für den Zeitraum 2024-2027 (Beratung und Beschlussfassung)\n2
 . Erweiterung des Pflegestützpunktes  - Gemeinsamer Antrag der Kreistags
 fraktionen von CDU und SPD\n3. Verschiedenes
UID:iS6pWb27ubE-ghM8
END:VEVENT
END:VCALENDAR
