BEGIN:VCALENDAR
PRODID:-//IONAS//RIS//DE
VERSION:2.0
CALSCALE:GREGORIAN
BEGIN:VEVENT
DTSTAMP:20260421T010758Z
DTSTART:20211028T143000
DTEND:20211028T151000
SUMMARY:Ausschuss für Landwirtschaft\, Forsten\, Natur\, Klima\, Energie 
 und Regionalentwicklung (4. Sitzung)
LOCATION:Kreishaus in Korbach\, großer Sitzungssaal\, Südring 2\, 34497 K
 orbach
DESCRIPTION:Tagesordnungspunkte\n1. I. Nachtragshaushaltssatzung und I. N
 achtragshaushaltsplan für das Haushaltsjahr 2021 sowie Fortschreibung de
 r Ergebnis- und Finanzplanung für den Zeitraum 2020 – 2024\n2. Klimachec
 k beim Verwaltungshandeln des Landkreises Waldeck-Frankenberg\n• Antrag 
 der Fraktion BÜNDNIS 90/DIE GRÜNEN\n3. Verschiedenes
UID:k3yiihoV3ZVrMmls
END:VEVENT
END:VCALENDAR
