BEGIN:VCALENDAR
PRODID:-//IONAS//RIS//DE
VERSION:2.0
CALSCALE:GREGORIAN
BEGIN:VEVENT
DTSTAMP:20260421T010414Z
DTSTART:20230313T150000
DTEND:20230313T162500
SUMMARY:Ausschuss für Schule\, Bildung\, Sport\, Digitalisierung und Schu
 lbauten (6. Sitzung)
LOCATION:Kreishaus in Korbach\, Sitzungssaal I (1. OG)\, Südring 2\, 3449
 7 Korbach
DESCRIPTION:Tagesordnungspunkte\n1. Vorstellung des Neubauprojektes Berli
 ner Schule Korbach\n2. Bericht über die Zeitplanung für die verschiedene
 n Schulbauprojekte\n3. Bericht über den zeitlichen Ablauf der Schulentwi
 cklungsplanung\n4. Verschiedenes
UID:l7XR4lQNXHwfz3VV
END:VEVENT
END:VCALENDAR
