BEGIN:VCALENDAR
PRODID:-//IONAS//RIS//DE
VERSION:2.0
CALSCALE:GREGORIAN
BEGIN:VEVENT
DTSTAMP:20260421T010159Z
DTSTART:20220207T150000
DTEND:20220207T154500
SUMMARY:Ausschuss für Schule\, Bildung\, Sport\, Digitalisierung und Schu
 lbauten (3. Sitzung)
LOCATION:Kreishaus in Korbach\, Sitzungssaal I (1. OG)\, Südring 2\, 3449
 7 Korbach
DESCRIPTION:Tagesordnungspunkte\n1. Haushaltssatzung und Haushaltsplan fü
 r das Haushaltsjahr 2022\, Investitionsprogramm und Ergebnis- und Finanz
 planung für den Zeitraum 2021 – 2025\n(Beratung und Beschlussfassung)\n2
 . Verschiedenes
UID:ms8khO_9Y-gV7TjU
END:VEVENT
END:VCALENDAR
