BEGIN:VCALENDAR
PRODID:-//IONAS//RIS//DE
VERSION:2.0
CALSCALE:GREGORIAN
BEGIN:VEVENT
DTSTAMP:20260420T212248Z
DTSTART:20261216T130000
DTEND:20261216T180000
SUMMARY:Kreistag (6. Sitzung)
LOCATION:Kreishaus in Korbach\, Sitzungssaal I (1. OG)\, Südring 2\, 3449
 7 Korbach
DESCRIPTION:
UID:pb7Rf2QsPXCSi4Pu
END:VEVENT
END:VCALENDAR
