BEGIN:VCALENDAR
PRODID:-//IONAS//RIS//DE
VERSION:2.0
CALSCALE:GREGORIAN
BEGIN:VEVENT
DTSTAMP:20260421T010628Z
DTSTART:20210705T160000
DTEND:20210705T162000
SUMMARY:Ausschuss für Gesundheit\, Familie\, Jugend und Soziales (1. Sitz
 ung)
LOCATION:Kreishaus in Korbach\, Sitzungssaal I (1. OG)\, Südring 2\, 3449
 7 Korbach
DESCRIPTION:Tagesordnungspunkte\n1. Wahl der oder des Ausschussvorsitzend
 en\n2. Wahl der Schriftführerinnen und der Schriftführer\n3. Wahl der od
 er des stellvertretenden Ausschussvorsitzenden\n4. Neufassung der Kinder
 tagespflegesatzung vom 5. Juli 2019\n5. Verschiedenes
UID:qBgrziW1VJ5d3FT5
END:VEVENT
END:VCALENDAR
