BEGIN:VCALENDAR
PRODID:-//IONAS//RIS//DE
VERSION:2.0
CALSCALE:GREGORIAN
BEGIN:VEVENT
DTSTAMP:20260421T010757Z
DTSTART:20260126T150000
DTEND:20260126T155800
SUMMARY:Ausschuss für Finanzen\, Wirtschaft\, Tourismus\, Mobilität und B
 auen (33. Sitzung)
LOCATION:Kreishaus in Korbach\, Sitzungssaal I (1. OG)\, Südring 2\, 3449
 7 Korbach
DESCRIPTION:Tagesordnungspunkte\nI. öffentliche Sitzung\n1. MVZ Frankenbe
 rg gGmbH\nSicherstellungsverpflichtung - Vereinbarung zur Rentenumlage\n
 der ZVK\n2. Förderprogramm „Sanierung kommunaler Sportstätten“\n3. Neufa
 ssung der „Richtlinie zur Förderung der Radverkehrsinfrastruktur im Land
 kreis Waldeck-Frankenberg“\n4. Zentrale Veranstaltung zum bundesweiten V
 eteranentag\nAntrag der Fraktionen CDU und SPD\n5. Unterrichtung über di
 e Genehmigung von überplanmäßigen Aufwendungen im Haushaltsjahr 2025\nTe
 ilhaushalt 011 Verwaltungssteuerung und - service\n6. Verschiedenes
UID:2I2cxMJvDoZV_H-H
END:VEVENT
END:VCALENDAR
