BEGIN:VCALENDAR
PRODID:-//IONAS//RIS//DE
VERSION:2.0
CALSCALE:GREGORIAN
BEGIN:VEVENT
DTSTAMP:20260421T011049Z
DTSTART:20230906T150000
DTEND:20230906T151100
SUMMARY:Ausschuss für Gesundheit\, Familie\, Jugend und Soziales (10. Sit
 zung)
LOCATION:Kreishaus in Korbach\, Sitzungssaal I (1. OG)\, Südring 2\, 3449
 7 Korbach
DESCRIPTION:Tagesordnungspunkte\n1. Jahresberichte der Patientenfürsprech
 erinnen und Patientenfürsprecher der Krankenhäuser im Landkreis Waldeck-
 Frankenberg für das Jahr 2022\n2. Erweiterung des Pflegestützpunkts\n•Ge
 meinsamer Antrag der Fraktionen von CDU und SPD\n3. Pilotprojekt „Hygien
 eartikel an den Schulen des Landkreises Waldeck-Frankenberg“\n4. Auflösu
 ng der Gesundheitszentrum Waldeck-Frankenberg GmbH sowie der Gesundheits
 zentrum Frankenberger Land GmbH & Co. KG\n5. Verschiedenes
UID:2Ni-nn4DwQSwz52l
END:VEVENT
END:VCALENDAR
