BEGIN:VCALENDAR
PRODID:-//IONAS//RIS//DE
VERSION:2.0
CALSCALE:GREGORIAN
BEGIN:VEVENT
DTSTAMP:20260420T212256Z
DTSTART:20251219T130000
DTEND:20251219T160500
SUMMARY:Kreistag (33. Sitzung)
LOCATION:Kreishaus in Korbach\, Sitzungssaal I (1. OG)\, Südring 2\, 3449
 7 Korbach
DESCRIPTION:Tagesordnungspunkte\nI. öffentliche Sitzung\n1. Fragestunde n
 ach § 17 der Geschäftsordnung\n2. Aktuelle Stunde\n3. Haushaltssatzung 2
 026\;\nBeschlussfassung gem. § 50 Abs. 5 S. 3 HFAG (Ergebnis der Anhörun
 g der zur Umlage verpflichteten Kommunen)\n4. Haushaltsplanung 2026 - Fo
 rtschreibung des Haushaltssicherungskonzeptes nach § 92a HGO für\nden Ze
 itraum 2025-2029 (Beratung und Beschlussfassung)\n5. Haushaltssatzung un
 d Haushaltsplan für das Haushaltsjahr 2026\, Investitionsprogramm\nund E
 rgebnis- und Finanzplanung für den Zeitraum 2025-2029 (Beratung und Besc
 hlussfassung)\n6. Umsetzungsaufwand Gebäudeenergiegesetz und Kommunale W
 ärmeplanung\nGroße Anfrage der AfD-Fraktion\n7. Wahl eines/r Patientenfü
 rsprechers/in für die Asklepios Kliniken Bad Wildungen\n8. Neufassung de
 r Benutzungs- und Entgeltordnung des Medienzentrums Waldeck-Frankenberg\
 n9. Neuorganisation der Wahrnehmung touristischer Aufgaben und Auflösung
  der Touristik Service Waldeck Ederbergland GmbH\n10. Beschluss über die
  Krankenhausfusion\n11. Genehmigung von überplanmäßigen Aufwendungen im 
 Haushaltsjahr 2025\nTeilergebnishaushalt 011 Verwaltungssteuerung und - 
 service\nTeilergebnishaushalt 063 Sonstige Leistungen der Kinder-\, Juge
 nd- und Familienhilfe\n12. Bericht über den Haushaltsvollzug für das III
 . Quartal 2025 auf der Grundlage der Finanzbuchhaltung nach § 28 GemHVO\
 n13. Beteiligungsbericht 2024 des Landkreises Waldeck-Frankenberg\n14. 9
 . Änderung der Satzung des Landkreises Waldeck-Frankenberg über die Erhe
 bung von Gebühren für Amtshandlungen im Zusammenhang mit der Gewinnung v
 on Frischfleisch (Frischfleisch-Kostensatzung) vom 15.12.2014 (s. Anlage
 n)\n15. Jahresabschluss 2024 der Waldeckischen Domanialverwaltung\; Fest
 stellung und Ergebnisverwendung\n16. Betrauungsakt Wirtschaftsförderung 
 und Regionalmanagement Waldeck Frankenberg GmbH\nhier: Verlängerung des 
 Betrauungsaktes der Wirtschaftsförderung und Regionalmanagement Waldeck 
 Frankenberg GmbH\n17. Verschiedenes
UID:2Ze87lyh5hnfnFsD
END:VEVENT
END:VCALENDAR
