BEGIN:VCALENDAR
PRODID:-//IONAS//RIS//DE
VERSION:2.0
CALSCALE:GREGORIAN
BEGIN:VEVENT
DTSTAMP:20260421T010808Z
DTSTART:20230510T150000
DTEND:20230510T161000
SUMMARY:Ausschuss für Landwirtschaft\, Forsten\, Natur\, Klima\, Energie 
 und Regionalentwicklung (11. Sitzung)
LOCATION:Kreishaus in Korbach\, Sitzungssaal I (1. OG)\, Südring 2\, 3449
 7 Korbach
DESCRIPTION:Tagesordnungspunkte\n1. „Gemeinsame klimaschützende Wärmeplan
 ung“\n•       Gemeinsamer Antrag der Fraktionen von BÜNDNIS 90/DIE GRÜNE
 N\, FW und FDP\n2. Verschiedenes
UID:3pbR_FI2Qz8gArGp
END:VEVENT
END:VCALENDAR
