BEGIN:VCALENDAR
PRODID:-//IONAS//RIS//DE
VERSION:2.0
CALSCALE:GREGORIAN
BEGIN:VEVENT
DTSTAMP:20260421T011243Z
DTSTART:20240924T150000
DTEND:20240924T154600
SUMMARY:Ausschuss für Finanzen\, Wirtschaft\, Tourismus\, Mobilität und B
 auen (22. Sitzung)
LOCATION:Kreishaus in Korbach\, Sitzungssaal I (1. OG)\, Südring 2\, 3449
 7 Korbach
DESCRIPTION:Tagesordnungspunkte\nI. öffentliche Sitzung\n1. Wahl eines Er
 satzmitgliedes in den Verwaltungsrat der Sparkasse Waldeck-Frankenberg\n
 2. Ergebnis der Potentialuntersuchung im Rahmen einer möglichen Reaktivi
 erung der Schienenstrecke Bad Wildungen – Hemfurth-Edersee („Ederseebahn
 “)\n3. Pflegehotel Willingen - Rangrücktritt einer bestehenden Darlehens
 forderung\n4. Bericht über den Haushaltsvollzug für das II. Quartal 2024
  auf der Grundlage der Finanzbuchhaltung nach § 28 GemHVO\n5. Unterricht
 ung über die Genehmigung von überplanmäßigen Aufwendungen im Teilergebni
 shaushalt 122 (Kreisstraßen) im Haushaltsjahr 2024\n6. Verschiedenes
UID:4oNKGjUxdntHqm45
END:VEVENT
END:VCALENDAR
