BEGIN:VCALENDAR
PRODID:-//IONAS//RIS//DE
VERSION:2.0
CALSCALE:GREGORIAN
BEGIN:VEVENT
DTSTAMP:20260420T212422Z
DTSTART:20250113T160000
DTEND:20250113T170000
SUMMARY:Kreistag (27. Sitzung)
LOCATION:Kreishaus in Korbach\, Sitzungssaal I (1. OG)\, Südring 2\, 3449
 7 Korbach
DESCRIPTION:Tagesordnungspunkte\nI. öffentliche Sitzung\n1. Fragestunde n
 ach § 17 der Geschäftsordnung\n2. Aktuelle Stunde\n3. Haushaltsplanung 2
 025 - Fortschreibung des Haushaltssicherungskonzeptes nach § 92a HGO für
  den Zeitraum 2024-2028 (Vorlage und Begründung)\n4. Haushaltssatzung un
 d Haushaltsplan für das Haushaltsjahr 2025\, Investitionsprogramm und Er
 gebnis- und Finanzplanung für den Zeitraum 2024-2028 (Vorlage und Begrün
 dung)\n5. Verschiedenes
UID:96a1r677NrHBsNHb
END:VEVENT
END:VCALENDAR
