BEGIN:VCALENDAR
PRODID:-//IONAS//RIS//DE
VERSION:2.0
CALSCALE:GREGORIAN
BEGIN:VEVENT
DTSTAMP:20260420T212243Z
DTSTART:20250221T140000
DTEND:20250221T164500
SUMMARY:Kreistag (28. Sitzung)
LOCATION:Kreishaus in Korbach\, Sitzungssaal I (1. OG)\, Südring 2\, 3449
 7 Korbach
DESCRIPTION:Tagesordnungspunkte\nI. öffentliche Sitzung\n1. Fragestunde n
 ach § 17 der Geschäftsordnung\n2. Aktuelle Stunde\n3. Haushaltsplanung 2
 025 – Fortschreibung des Haushaltssicherungskonzepts nach § 92a HGO für 
 den Zeitraum 2024-2028 (Beratung und Beschlussfassung)\n4. Haushaltssatz
 ung und Haushaltsplan für das Haushaltsjahr 2025\, Investitionsprogramm 
 und Ergebnis- und Finanzplanung für den Zeitraum 2024-2028 (Beratung und
  Beschlussfassung)\n5. Aufstellung von dritt- und/oder mischfinanzierten
  Projekten des Landkreises mit zugeordneten Stellen und weiteren Angaben
 \n•Gemeinsamer Antrag der Fraktionen von CDU und SPD\n6. Große Anfrage v
 on Bündnis 90/ Die Grünen betreffend „Ganztagsschulentwicklung“\n7. EAM 
 GmbH & Co. KG\nhier: Rückbestätigung zum Fortbestand der Bürgschaftserkl
 ärung\n8. Bericht über den Haushaltsvollzug für das IV. Quartal 2024 auf
  der Grundlage der Finanzbuchhaltung nach § 28 GemHVO\n9. Unterrichtung 
 über die Genehmigung von überplanmäßigen Aufwendungen im Teilergebnishau
 shalt 050 Grundversorgung und Hilfen nach SGB XII\, Teilergebnishaushalt
  051 Grundsicherung für Arbeitsuchende nach SGB II sowie im Teilergebnis
 haushalt 063 Sonstige Leistungen der Kinder-\, Jugend- und Familienhilfe
  im Haushaltsjahr 2024\n10. Verschiedenes
UID:9VAVcBjdZDrfMWup
END:VEVENT
END:VCALENDAR
