BEGIN:VCALENDAR
PRODID:-//IONAS//RIS//DE
VERSION:2.0
CALSCALE:GREGORIAN
BEGIN:VEVENT
DTSTAMP:20260421T010757Z
DTSTART:20261210T160000
DTEND:20261210T170000
SUMMARY:Ausschuss für Gesundheit\, Familie\, Jugend und Soziales (5. Sitz
 ung)
LOCATION:Kreishaus in Korbach\, Sitzungssaal I (1. OG)\, Südring 2\, 3449
 7 Korbach
DESCRIPTION:
UID:Do7VuND9o3ipSzf5
END:VEVENT
END:VCALENDAR
