BEGIN:VCALENDAR
PRODID:-//IONAS//RIS//DE
VERSION:2.0
CALSCALE:GREGORIAN
BEGIN:VEVENT
DTSTAMP:20260421T010342Z
DTSTART:20250911T150300
DTEND:20250911T160800
SUMMARY:Ausschuss für Schule\, Bildung\, Sport\, Digitalisierung und Schu
 lbauten (16. Sitzung)
LOCATION:Kreishaus in Korbach\, Sitzungssaal I (1. OG)\, Südring 2\, 3449
 7 Korbach
DESCRIPTION:Tagesordnungspunkte\n1. Einführung eines kreisweiten Wettbewe
 rbs zur Senkung des Energieverbrauchs in Schulen des Kreises\nAntrag der
  Fraktion BÜNDNIS 90/DIE GRÜNEN\n2. Neufassung der Satzung über die Bild
 ung von Schulbezirken für die Grundschulen des Landkreises Waldeck-Frank
 enberg\n3. Verschiedenes
UID:E4VSh9xYYI7qutVH
END:VEVENT
END:VCALENDAR
