BEGIN:VCALENDAR
PRODID:-//IONAS//RIS//DE
VERSION:2.0
CALSCALE:GREGORIAN
BEGIN:VEVENT
DTSTAMP:20260421T010200Z
DTSTART:20230206T150000
DTEND:20230206T163500
SUMMARY:Ausschuss für Schule\, Bildung\, Sport\, Digitalisierung und Schu
 lbauten (5. Sitzung)
LOCATION:Kreishaus in Korbach\, Sitzungssaal I (1. OG)\, Südring 2\, 3449
 7 Korbach
DESCRIPTION:Tagesordnungspunkte\n3. Sachbericht Schulsozialarbeit für das
  Schuljahr 2021/2022\n1. Haushaltssatzung und Haushaltsplan für das Haus
 haltsjahr 2023\, Investitionsprogramm und Ergebnis- und Finanzplanung fü
 r den Zeitraum 2022 – 2026\n(Beratung und Beschlussfassung)\n2. Sachberi
 cht zum Nachhaltigkeitsprogramm für Schulen „BNE Diplom – Clever macht Z
 ukunft“ 2021-2022\n4. Verschiedenes
UID:F2hTyct10XWGmcLh
END:VEVENT
END:VCALENDAR
