BEGIN:VCALENDAR
PRODID:-//IONAS//RIS//DE
VERSION:2.0
CALSCALE:GREGORIAN
BEGIN:VEVENT
DTSTAMP:20260421T011130Z
DTSTART:20230907T150000
DTEND:20230907T155000
SUMMARY:Ausschuss für Finanzen\, Wirtschaft\, Tourismus\, Mobilität und B
 auen (16. Sitzung)
LOCATION:Kreishaus in Korbach\, Sitzungssaal I (1. OG)\, Südring 2\, 3449
 7 Korbach
DESCRIPTION:Tagesordnungspunkte\nI. öffentliche Sitzung\n1. Zwischenberic
 ht über die Entwicklung einer Personalstrategie für die Kreisverwaltung\
 n2. Verbesserung der öffentlichen Ladeinfrastruktur\nBeschluss des Kreis
 tags vom 15.05.2023 (KT-33/2023)\n3. Auflösung der Gesundheitszentrum Wa
 ldeck-Frankenberg GmbH sowie der Gesundheitszentrum Frankenberger Land G
 mbH & Co. KG\n4. Bericht über den Haushaltsvollzug für das II. Quartal 2
 023 auf der Grundlage der Finanzbuchhaltung nach § 28 GemHVO\n5. Verschi
 edenes
UID:FjOmhIlZYZ8i7dU5
END:VEVENT
END:VCALENDAR
