BEGIN:VCALENDAR
PRODID:-//IONAS//RIS//DE
VERSION:2.0
CALSCALE:GREGORIAN
BEGIN:VEVENT
DTSTAMP:20260421T010910Z
DTSTART:20241209T150000
DTEND:20241209T153600
SUMMARY:Ausschuss für Gesundheit\, Familie\, Jugend und Soziales (13. Sit
 zung)
LOCATION:Kreishaus in Korbach\, Sitzungssaal I (1. OG)\, Südring 2\, 3449
 7 Korbach
DESCRIPTION:Tagesordnungspunkte\n1. Sechster Frauenförder- und Gleichstel
 lungsplan des Landkreises Waldeck-Frankenberg\n2. Fortschreibung des Ber
 eichsplanes für den Rettungsdienstbereich Waldeck-Frankenberg\n3. Versch
 iedenes
UID:GTO0X-8CuE-HL3yj
END:VEVENT
END:VCALENDAR
