BEGIN:VCALENDAR
PRODID:-//IONAS//RIS//DE
VERSION:2.0
CALSCALE:GREGORIAN
BEGIN:VEVENT
DTSTAMP:20260421T010757Z
DTSTART:20211208T150000
DTEND:20211208T162000
SUMMARY:Ausschuss für Landwirtschaft\, Forsten\, Natur\, Klima\, Energie 
 und Regionalentwicklung (5. Sitzung)
LOCATION:Kreishaus in Korbach\, Sitzungssaal I (1. OG)\, Südring 2\, 3449
 7 Korbach
DESCRIPTION:Tagesordnungspunkte\n1. Wirtschaftsplan der Waldeckischen Dom
 anialverwaltung für das Wirtschaftsjahr 2022\n(Beratung und Beschlussfas
 sung)\n2. Verschiedenes
UID:INqSkmh4gC4HtVZl
END:VEVENT
END:VCALENDAR
