BEGIN:VCALENDAR
PRODID:-//IONAS//RIS//DE
VERSION:2.0
CALSCALE:GREGORIAN
BEGIN:VEVENT
DTSTAMP:20260421T010649Z
DTSTART:20250908T160000
DTEND:20250908T170000
SUMMARY:Ausschuss für Gesundheit\, Familie\, Jugend und Soziales (15. Sit
 zung)
LOCATION:Kreishaus in Korbach\, Sitzungssaal I (1. OG)\, Südring 2\, 3449
 7 Korbach
DESCRIPTION:Tagesordnungspunkte\n1. Jahresberichte der Patientenfürsprech
 erinnen und Patientenfürsprecher der Krankenhäuser im Landkreis Waldeck-
 Frankenberg für das Jahr 2024\n2. Vorstellung der Arbeit im Sachgebiet P
 ublic Health sowie Planungen zur Gesundheitskonferenz\n3. Wahl weiterer 
 Schriftführerinnen und Schriftführer des Ausschusses für Gesundheit\, Fa
 milie\, Jugend und Soziales\n4. Verschiedenes
UID:JVTNbii3JVpsmMhw
END:VEVENT
END:VCALENDAR
