BEGIN:VCALENDAR
PRODID:-//IONAS//RIS//DE
VERSION:2.0
CALSCALE:GREGORIAN
BEGIN:VEVENT
DTSTAMP:20260420T212411Z
DTSTART:20241011T180000
DTEND:20241011T192500
SUMMARY:Kreistag (24. Sitzung)
LOCATION:Kreishaus in Korbach\, Sitzungssaal I (1. OG)\, Südring 2\, 3449
 7 Korbach
DESCRIPTION:Tagesordnungspunkte\nI. öffentliche Sitzung\n1. Sicherstellun
 g der Finanzierung der Kreiskrankenhaus Frankenberg gGmbH\n2. Verschiede
 nes
UID:MOWE70fjE7CZ0pno
END:VEVENT
END:VCALENDAR
