BEGIN:VCALENDAR
PRODID:-//IONAS//RIS//DE
VERSION:2.0
CALSCALE:GREGORIAN
BEGIN:VEVENT
DTSTAMP:20260420T212246Z
DTSTART:20241111T140000
DTEND:20241111T154700
SUMMARY:Kreistag (25. Sitzung)
LOCATION:Kreishaus in Korbach\, Sitzungssaal I (1. OG)\, Südring 2\, 3449
 7 Korbach
DESCRIPTION:Tagesordnungspunkte\nI. öffentliche Sitzung\n1. Fragestunde n
 ach § 17 der Geschäftsordnung\n2. Aktuelle Stunde\n3. Deponie Flechtdorf
  • Große Anfrage der Fraktion Bündnis 90/Die Grünen\n4. Ergebnis der Pot
 entialuntersuchung im Rahmen einer möglichen Reaktivierung der Schienens
 trecke Bad Wildungen – Hemfurth-Edersee („Ederseebahn“)\n5. Ederseebahn-
 Radweg\n•	Gemeinsamer Antrag der Fraktionen von CDU und SPD betr. Lücken
 schluss des Radwegs zwischen Buhlen und Giflitz\n•	Antrag der FW-Fraktio
 n betr. Optimierung/Überarbeitung der Radwegesituation entlang der alten
  Bahnstrecke zwischen Korbach und Giflitz mit dem Ziel einer optimierten
  Anbindung der Mittelzentren Bad Wildungen und Fritzlar\n6. Konsequenzen
  aus den RKI-Protokollen für den Landkreis Waldeck-Frankenberg\n•Antrag 
 der AfD-Fraktion\n7. Rückerstattung für die im Zuge der „Corona-Pandemie
 “ ausgesprochenen Bußgelder\n•Antrag der AfD-Fraktion\n8. Aufstellung ei
 ner Vorschlagsliste für die Wahl der ehrenamtlichen Richterinnen und Ric
 hter am Verwaltungsgericht Kassel\n9. Wahl eines Mitglieds des Personalr
 ats in die Domanialkommission\n10. Jahresabschluss 2023 der Waldeckische
 n Domanialverwaltung\n11. Wirtschaftsplan der Waldeckischen Domanialverw
 altung für das Wirtschaftsjahr 2025\n12. Bestellung des Prüfers für den 
 Jahresabschluss 2024 der Waldeckischen Domanialverwaltung\n13. 6. Satzun
 g zur Änderung der Satzung über die Entschädigung der für den Landkreis 
 Waldeck-Frankenberg ehrenamtlich Tätigen (Entschädigungssatzung)\n14. Be
 richt über den Haushaltsvollzug für das III. Quartal 2024 auf der Grundl
 age der Finanzbuchhaltung nach § 28 GemHVO\n15. Unterrichtung über die G
 enehmigung von über- und außerplanmäßigen Aufwendungen in den Teilergebn
 ishaushalten 115 für BgA Beteiligung Windpark Gemünden – Nachzahlung Kör
 perschaftssteuer/Kapitalertragssteuer\, 132 „Öffentliche Gewässer\, wass
 erbauliche Anlagen“ sowie 027010 Rettungsdienst im Haushaltsjahr 2024\n1
 6. Verschiedenes
UID:NFj0B5U80SeGhWSl
END:VEVENT
END:VCALENDAR
