BEGIN:VCALENDAR
PRODID:-//IONAS//RIS//DE
VERSION:2.0
CALSCALE:GREGORIAN
BEGIN:VEVENT
DTSTAMP:20260421T010302Z
DTSTART:20260924T150000
DTEND:20260924T160000
SUMMARY:Ausschuss für Schule\, Bildung\, Sport\, Digitalisierung und Schu
 lbauten (3. Sitzung)
LOCATION:Kreishaus in Korbach\, Sitzungssaal I (1. OG)\, Südring 2\, 3449
 7 Korbach
DESCRIPTION:
UID:OP73DEH1g8Zho7WK
END:VEVENT
END:VCALENDAR
