BEGIN:VCALENDAR
PRODID:-//IONAS//RIS//DE
VERSION:2.0
CALSCALE:GREGORIAN
BEGIN:VEVENT
DTSTAMP:20260421T010109Z
DTSTART:20230904T150000
DTEND:20230904T160400
SUMMARY:Ausschuss für Schule\, Bildung\, Sport\, Digitalisierung und Schu
 lbauten (9. Sitzung)
LOCATION:Kreishaus in Korbach\, Sitzungssaal I (1. OG)\, Südring 2\, 3449
 7 Korbach
DESCRIPTION:Tagesordnungspunkte\n1. Klima- und bewegungsfreundliche Schul
 höfe im Landkreis Waldeck-Frankenberg“\nGemeinsamer Antrag der Fraktione
 n von BÜNDNIS 90/DIE GRÜNEN\, FWG und FDP\n2. Verbesserung und Neuordnun
 g des Grundschulangebots im Bereich der Stadt Frankenberg\n•   Beschluss
  des Kreistages vom 20.03.2023 (KT-19/2023)\n3. Pilotprojekt „Hygieneart
 ikel an den Schulen des Landkreises Waldeck-Frankenberg“\n4. Sanierung d
 er Beruflichen Schulen Korbach\, Kasseler Straße 17\nhier :	Mehrkostenmi
 tteilung Sanierung Werkstätten Bauabschnitte 5 und 6\n	Neuveranschlagung
  benötigter Restmittel ab 2029\n5. Verschiedenes
UID:P9gDw8aHFlEXmyIX
END:VEVENT
END:VCALENDAR
