BEGIN:VCALENDAR
PRODID:-//IONAS//RIS//DE
VERSION:2.0
CALSCALE:GREGORIAN
BEGIN:VEVENT
DTSTAMP:20260421T010414Z
DTSTART:20240422T150000
DTEND:20240422T160000
SUMMARY:Ausschuss für Schule\, Bildung\, Sport\, Digitalisierung und Schu
 lbauten (11. Sitzung)
LOCATION:Kreishaus in Korbach\, Sitzungssaal I (1. OG)\, Südring 2\, 3449
 7 Korbach
DESCRIPTION:Tagesordnungspunkte\n1. Schulentwicklungsplanung 2023-2027\n2
 . Neufassung der Satzung über die Bildung von Schulbezirken für die Grun
 dschulen des Landkreises Waldeck-Frankenberg\n3. Verschiedenes
UID:PkTV14PKI6Ky1mTG
END:VEVENT
END:VCALENDAR
