BEGIN:VCALENDAR
PRODID:-//IONAS//RIS//DE
VERSION:2.0
CALSCALE:GREGORIAN
BEGIN:VEVENT
DTSTAMP:20260421T010206Z
DTSTART:20230508T150100
DTEND:20230508T160200
SUMMARY:Ausschuss für Schule\, Bildung\, Sport\, Digitalisierung und Schu
 lbauten (7. Sitzung)
LOCATION:Kreishaus in Korbach\, Sitzungssaal I (1. OG)\, Südring 2\, 3449
 7 Korbach
DESCRIPTION:Tagesordnungspunkte\n1. Erarbeitung einer Konzeption für die 
 Schulsituation in der Gemeinde Twistetal für die Standorte Berndorf und 
 Twiste\n•   Antrag der FW-Fraktion\n2. Grundschule Twistetal\nhier : Ver
 trag zwischen Gemeinde und Landkreis\n3. Sachbericht zu den Aktivitäten 
 und Zusammenfassung der Ergebnisse im Geschäftsjahr 2022 des HESSENCAMPU
 S Waldeck-Frankenberg\n4. DigitalPakt Schule – Zwischenbericht 2023\n5. 
 Verschiedenes
UID:QIbcx3eQrwKbnRcr
END:VEVENT
END:VCALENDAR
