BEGIN:VCALENDAR
PRODID:-//IONAS//RIS//DE
VERSION:2.0
CALSCALE:GREGORIAN
BEGIN:VEVENT
DTSTAMP:20260421T010628Z
DTSTART:20230208T150000
DTEND:20230208T160000
SUMMARY:Ausschuss für Landwirtschaft\, Forsten\, Natur\, Klima\, Energie 
 und Regionalentwicklung (10. Sitzung)
LOCATION:Kreishaus in Korbach\, Sitzungssaal I (1. OG)\, Südring 2\, 3449
 7 Korbach
DESCRIPTION:Tagesordnungspunkte\n1. Haushaltssatzung und Haushaltsplan fü
 r das Haushaltsjahr 2023\, Investitionsprogramm und Ergebnis- und Finanz
 planung für den Zeitraum 2022 – 2026\n(Beratung und Beschlussfassung)\n2
 . Verschiedenes
UID:T1UwTSkDSa7vvu8m
END:VEVENT
END:VCALENDAR
