BEGIN:VCALENDAR
PRODID:-//IONAS//RIS//DE
VERSION:2.0
CALSCALE:GREGORIAN
BEGIN:VEVENT
DTSTAMP:20260421T010205Z
DTSTART:20240219T150000
DTEND:20240219T155200
SUMMARY:Ausschuss für Schule\, Bildung\, Sport\, Digitalisierung und Schu
 lbauten (10. Sitzung)
LOCATION:Kreishaus in Korbach\, Sitzungssaal I (1. OG)\, Südring 2\, 3449
 7 Korbach
DESCRIPTION:Tagesordnungspunkte\n1. Wahl eines/r Ausschussvorsitzenden\n2
 . Haushaltssatzung und Haushaltsplan für das Haushaltsjahr 2024\, Invest
 itionsprogramm und Ergebnis- und Finanzplanung für den Zeitraum 2023-202
 7 sowie Haushaltssicherungskonzept nach § 92a HGO für den Zeitraum 2024-
 2027 (Beratung und Beschlussfassung)\n3. Sachbericht zur Ferienbetreuung
  an Grundschulen im Rahmen des Pakts für den Ganztag – Schuljahr 2022/20
 23\n4. Sachbericht zum Nachhaltigkeitsprogramm für Schulen „BNE Diplom –
  Clever macht Zukunft“ 2022-2023\n5. Verschiedenes
UID:U_AiRFU6sPl3e5lr
END:VEVENT
END:VCALENDAR
