BEGIN:VCALENDAR
PRODID:-//IONAS//RIS//DE
VERSION:2.0
CALSCALE:GREGORIAN
BEGIN:VEVENT
DTSTAMP:20260421T010808Z
DTSTART:20241107T160000
DTEND:20241107T172100
SUMMARY:Ausschuss für Finanzen\, Wirtschaft\, Tourismus\, Mobilität und B
 auen (24. Sitzung)
LOCATION:Kreishaus in Korbach\, Sitzungssaal I (1. OG)\, Südring 2\, 3449
 7 Korbach
DESCRIPTION:Tagesordnungspunkte\nI. öffentliche Sitzung\n1. Personalcontr
 olling\n2. Ergebnis der Potentialuntersuchung im Rahmen einer möglichen 
 Reaktivierung der Schienenstrecke Bad Wildungen – Hemfurth-Edersee („Ede
 rseebahn“)\n3. Jahresabschluss 2023 der Waldeckischen Domanialverwaltung
 \n4. Wirtschaftsplan der Waldeckischen Domanialverwaltung für das Wirtsc
 haftsjahr 2025\n5. Bestellung des Prüfers für den Jahresabschluss 2024 d
 er Waldeckischen Domanialverwaltung\n6. 6. Satzung zur Änderung der Satz
 ung über die Entschädigung der für den Landkreis Waldeck-Frankenberg ehr
 enamtlich Tätigen (Entschädigungssatzung)\n7. Bericht über den Haushalts
 vollzug für das III. Quartal 2024 auf der Grundlage der Finanzbuchhaltun
 g nach § 28 GemHVO\n8. Unterrichtung über die Genehmigung von über- und 
 außerplanmäßigen Aufwendungen in den Teilergebnishaushalten 115 für BgA 
 Beteiligung Windpark Gemünden – Nachzahlung Körperschaftssteuer/Kapitale
 rtragssteuer\, 132 „Öffentliche Gewässer\, wasserbauliche Anlagen“ sowie
  027010 Rettungsdienst im Haushaltsjahr 2024\n9. Kreiskrankenhaus Franke
 nberg gGmbH\;\n•Bericht der Geschäftsführung über die aktuelle finanziel
 le Situation und Entwicklung\,\n•Vorlage des Sanierungskonzepts\,\n•Beri
 cht des Kreisausschusses über den aktuellen Sachstand der Fusion mit dem
  Stadtkrankenhaus Korbach.\n10. Verschiedenes
UID:WsxlbxHyO5E7IB2d
END:VEVENT
END:VCALENDAR
