BEGIN:VCALENDAR
PRODID:-//IONAS//RIS//DE
VERSION:2.0
CALSCALE:GREGORIAN
BEGIN:VEVENT
DTSTAMP:20260421T010516Z
DTSTART:20220209T150000
DTEND:20220209T160500
SUMMARY:Ausschuss für Landwirtschaft\, Forsten\, Natur\, Klima\, Energie 
 und Regionalentwicklung (6. Sitzung)
LOCATION:Kreishaus in Korbach\, Sitzungssaal I (1. OG)\, Südring 2\, 3449
 7 Korbach
DESCRIPTION:Tagesordnungspunkte\n1. Haushaltssatzung und Haushaltsplan fü
 r das Haushaltsjahr 2022\, Investitionsprogramm und Ergebnis- und Finanz
 planung für den Zeitraum 2021 – 2025\n(Beratung und Beschlussfassung)\n2
 . Verschiedenes
UID:ggPPdSLMBzD5OUZs
END:VEVENT
END:VCALENDAR
