BEGIN:VCALENDAR
PRODID:-//IONAS//RIS//DE
VERSION:2.0
CALSCALE:GREGORIAN
BEGIN:VEVENT
DTSTAMP:20260421T011013Z
DTSTART:20220208T150000
DTEND:20220208T154200
SUMMARY:Ausschuss für Gesundheit\, Familie\, Jugend und Soziales (4. Sitz
 ung)
LOCATION:Kreishaus in Korbach\, Sitzungssaal I (1. OG)\, Südring 2\, 3449
 7 Korbach
DESCRIPTION:Tagesordnungspunkte\n1. Haushaltssatzung und Haushaltsplan fü
 r das Haushaltsjahr 2022\, Investitionsprogramm und Ergebnis- und Finanz
 planung für den Zeitraum 2021 – 2025\n(Beratung und Beschlussfassung)\n2
 . Bericht des Kreisausschusses zur Entwicklung der Heimpflegekosten\n3. 
 Bericht des Kreisausschusses zum datenbasierten kommunalen Bildungsmanag
 ement\n4. Verschiedenes
UID:nvmKlXSkJ1SeKuQs
END:VEVENT
END:VCALENDAR
