BEGIN:VCALENDAR
PRODID:-//IONAS//RIS//DE
VERSION:2.0
CALSCALE:GREGORIAN
BEGIN:VEVENT
DTSTAMP:20260421T010415Z
DTSTART:20260122T150000
DTEND:20260122T155000
SUMMARY:Ausschuss für Schule\, Bildung\, Sport\, Digitalisierung und Schu
 lbauten (19. Sitzung)
LOCATION:Kreishaus in Korbach\, Sitzungssaal I (1. OG)\, Südring 2\, 3449
 7 Korbach
DESCRIPTION:Tagesordnungspunkte\n1. Personalbemessung der in den Schulver
 waltungen des Landkreises Waldeck-Frankenberg eingesetzten Mitarbeiter u
 nd Mitarbeiterinnen (Schulverwaltungskräfte)\n2. Vorstellung des Medienz
 entrums\n3. Projektvorstellung Neubau Grundschule Goddelsheim\n4. Versch
 iedenes
UID:pC9KACwo4ENwio_7
END:VEVENT
END:VCALENDAR
